Package: CODEX Version: 1.34.0 Command: /home/biocbuild/bbs-3.18-bioc/R/bin/R CMD check --install=check:CODEX.install-out.txt --library=/home/biocbuild/bbs-3.18-bioc/R/site-library --timings CODEX_1.34.0.tar.gz StartedAt: 2024-04-15 21:24:56 -0400 (Mon, 15 Apr 2024) EndedAt: 2024-04-15 21:31:43 -0400 (Mon, 15 Apr 2024) EllapsedTime: 407.2 seconds RetCode: 0 Status: OK CheckDir: CODEX.Rcheck Warnings: 0