Package: CNVrd2 Version: 1.40.0 Command: /home/biocbuild/bbs-3.18-bioc/R/bin/R CMD check --install=check:CNVrd2.install-out.txt --library=/home/biocbuild/bbs-3.18-bioc/R/site-library --timings CNVrd2_1.40.0.tar.gz StartedAt: 2024-04-15 21:23:58 -0400 (Mon, 15 Apr 2024) EndedAt: 2024-04-15 21:28:05 -0400 (Mon, 15 Apr 2024) EllapsedTime: 246.9 seconds RetCode: 0 Status: OK CheckDir: CNVrd2.Rcheck Warnings: 0