Package: CNVrd2 Version: 1.40.0 Command: /Library/Frameworks/R.framework/Resources/bin/R CMD build --keep-empty-dirs --no-resave-data CNVrd2 StartedAt: 2024-04-15 17:48:18 -0400 (Mon, 15 Apr 2024) EndedAt: 2024-04-15 17:50:57 -0400 (Mon, 15 Apr 2024) EllapsedTime: 158.6 seconds RetCode: 0 Status: OK PackageFile: CNVrd2_1.40.0.tar.gz PackageFileSize: 2.826 MiB