Package: CNVrd2 Version: 1.40.0 Command: /Library/Frameworks/R.framework/Resources/bin/R CMD build --keep-empty-dirs --no-resave-data CNVrd2 StartedAt: 2024-03-03 16:18:01 -0500 (Sun, 03 Mar 2024) EndedAt: 2024-03-03 16:19:36 -0500 (Sun, 03 Mar 2024) EllapsedTime: 94.9 seconds RetCode: 0 Status: OK PackageFile: CNVrd2_1.40.0.tar.gz PackageFileSize: 2.824 MiB