Package: CNViz Version: 1.10.0 Command: /Library/Frameworks/R.framework/Resources/bin/R CMD INSTALL CNViz StartedAt: 2024-04-15 15:55:52 -0400 (Mon, 15 Apr 2024) EndedAt: 2024-04-15 15:57:28 -0400 (Mon, 15 Apr 2024) EllapsedTime: 96.6 seconds RetCode: 0 Status: OK