Package: CNViz Version: 1.10.0 Command: /Library/Frameworks/R.framework/Resources/bin/R CMD check --install=check:CNViz.install-out.txt --library=/Library/Frameworks/R.framework/Resources/library --no-vignettes --timings CNViz_1.10.0.tar.gz StartedAt: 2024-04-16 00:57:52 -0400 (Tue, 16 Apr 2024) EndedAt: 2024-04-16 01:08:45 -0400 (Tue, 16 Apr 2024) EllapsedTime: 653.1 seconds RetCode: 0 Status: OK CheckDir: CNViz.Rcheck Warnings: 0