Package: CNViz Version: 1.10.0 Command: rm -rf CNViz.buildbin-libdir && mkdir CNViz.buildbin-libdir && /Users/biocbuild/BBS/utils/build-universal.sh CNViz_1.10.0.tar.gz /Library/Frameworks/R.framework/Resources/bin/R CNViz.buildbin-libdir StartedAt: 2024-04-16 11:19:27 -0400 (Tue, 16 Apr 2024) EndedAt: 2024-04-16 11:21:44 -0400 (Tue, 16 Apr 2024) EllapsedTime: 137.8 seconds RetCode: 0 Status: OK PackageFile: CNViz_1.10.0.tgz PackageFileSize: 178.8 KiB