Package: CNViz Version: 1.10.0 Command: /home/biocbuild/R/R-4.3.1/bin/R CMD build --keep-empty-dirs --no-resave-data CNViz StartedAt: 2023-11-01 23:37:29 -0000 (Wed, 01 Nov 2023) EndedAt: 2023-11-01 23:38:52 -0000 (Wed, 01 Nov 2023) EllapsedTime: 83.1 seconds RetCode: 0 Status: OK PackageFile: CNViz_1.10.0.tar.gz PackageFileSize: 116.2 KiB