Package: CNVfilteR Version: 1.16.0 Maintainer: Jose Marcos Moreno-Cabrera MaintainerEmail: jpuntomarcos at gmail.com git_url: https://git.bioconductor.org/packages/CNVfilteR git_branch: RELEASE_3_18 git_last_commit: b3a6913 git_last_commit_date: 2023-10-24 11:17:02 -0400 (Tue, 24 Oct 2023)