Package: CNVRanger Version: 1.18.1 Command: /Library/Frameworks/R.framework/Resources/bin/R CMD INSTALL CNVRanger StartedAt: 2024-03-03 15:13:20 -0500 (Sun, 03 Mar 2024) EndedAt: 2024-03-03 15:13:52 -0500 (Sun, 03 Mar 2024) EllapsedTime: 31.7 seconds RetCode: 0 Status: OK