Package: CNVRanger Version: 1.18.0 Command: /home/biocbuild/R/R-4.3.1/bin/R CMD build --keep-empty-dirs --no-resave-data CNVRanger StartedAt: 2023-11-01 23:38:14 -0000 (Wed, 01 Nov 2023) EndedAt: 2023-11-02 00:18:14 -0000 (Thu, 02 Nov 2023) EllapsedTime: 2400.1 seconds RetCode: None Status: TIMEOUT PackageFile: None PackageFileSize: NA