Package: CNVMetrics Version: 1.6.0 Command: F:\biocbuild\bbs-3.18-bioc\R\bin\R.exe CMD INSTALL CNVMetrics StartedAt: 2024-04-15 15:57:40 -0400 (Mon, 15 Apr 2024) EndedAt: 2024-04-15 15:57:57 -0400 (Mon, 15 Apr 2024) EllapsedTime: 17.1 seconds RetCode: 0 Status: OK