Package: CNVMetrics Version: 1.6.0 Command: /Library/Frameworks/R.framework/Resources/bin/R CMD INSTALL CNVMetrics StartedAt: 2024-03-03 15:13:55 -0500 (Sun, 03 Mar 2024) EndedAt: 2024-03-03 15:14:11 -0500 (Sun, 03 Mar 2024) EllapsedTime: 16.0 seconds RetCode: 0 Status: OK