Package: CNVMetrics Version: 1.6.0 Command: rm -rf CNVMetrics.buildbin-libdir && mkdir CNVMetrics.buildbin-libdir && /Users/biocbuild/BBS/utils/build-universal.sh CNVMetrics_1.6.0.tar.gz /Library/Frameworks/R.framework/Resources/bin/R CNVMetrics.buildbin-libdir StartedAt: 2024-03-04 00:35:00 -0500 (Mon, 04 Mar 2024) EndedAt: 2024-03-04 00:35:19 -0500 (Mon, 04 Mar 2024) EllapsedTime: 19.0 seconds RetCode: 0 Status: OK PackageFile: CNVMetrics_1.6.0.tgz PackageFileSize: 2.663 MiB