Package: CNTools Version: 1.58.0 Command: /Library/Frameworks/R.framework/Resources/bin/R CMD check --install=check:CNTools.install-out.txt --library=/Library/Frameworks/R.framework/Resources/library --no-vignettes --timings CNTools_1.58.0.tar.gz StartedAt: 2024-03-03 19:44:19 -0500 (Sun, 03 Mar 2024) EndedAt: 2024-03-03 19:46:58 -0500 (Sun, 03 Mar 2024) EllapsedTime: 158.7 seconds RetCode: 0 Status: OK CheckDir: CNTools.Rcheck Warnings: 0