Package: CNORode Version: 1.44.0 Command: /home/biocbuild/bbs-3.18-bioc/R/bin/R CMD check --install=check:CNORode.install-out.txt --library=/home/biocbuild/bbs-3.18-bioc/R/site-library --timings CNORode_1.44.0.tar.gz StartedAt: 2024-04-15 21:22:49 -0400 (Mon, 15 Apr 2024) EndedAt: 2024-04-15 21:23:48 -0400 (Mon, 15 Apr 2024) EllapsedTime: 59.2 seconds RetCode: 0 Status: WARNINGS CheckDir: CNORode.Rcheck Warnings: 2