Package: CNORode Version: 1.44.0 Command: /Library/Frameworks/R.framework/Resources/bin/R CMD build --keep-empty-dirs --no-resave-data CNORode StartedAt: 2024-04-15 17:47:38 -0400 (Mon, 15 Apr 2024) EndedAt: 2024-04-15 17:49:56 -0400 (Mon, 15 Apr 2024) EllapsedTime: 137.6 seconds RetCode: 0 Status: OK PackageFile: CNORode_1.44.0.tar.gz PackageFileSize: 727 KiB