Package: CNORode Version: 1.44.0 Command: /Library/Frameworks/R.framework/Resources/bin/R CMD INSTALL CNORode StartedAt: 2024-03-03 15:24:21 -0500 (Sun, 03 Mar 2024) EndedAt: 2024-03-03 15:24:47 -0500 (Sun, 03 Mar 2024) EllapsedTime: 25.8 seconds RetCode: 0 Status: OK