Package: CNORfuzzy Version: 1.44.0 Command: chmod a+r CNORfuzzy -R && F:\biocbuild\bbs-3.18-bioc\R\bin\R.exe CMD build --keep-empty-dirs --no-resave-data CNORfuzzy StartedAt: 2024-04-15 17:40:59 -0400 (Mon, 15 Apr 2024) EndedAt: 2024-04-15 17:41:32 -0400 (Mon, 15 Apr 2024) EllapsedTime: 33.4 seconds RetCode: 0 Status: OK PackageFile: CNORfuzzy_1.44.0.tar.gz PackageFileSize: 923.6 KiB