Package: CNORfuzzy Version: 1.44.0 Command: /Library/Frameworks/R.framework/Resources/bin/R CMD INSTALL CNORfuzzy StartedAt: 2024-04-15 16:02:36 -0400 (Mon, 15 Apr 2024) EndedAt: 2024-04-15 16:02:58 -0400 (Mon, 15 Apr 2024) EllapsedTime: 22.0 seconds RetCode: 0 Status: OK