Package: CNORfuzzy Version: 1.44.0 Command: /Library/Frameworks/R.framework/Resources/bin/R CMD check --install=check:CNORfuzzy.install-out.txt --library=/Library/Frameworks/R.framework/Resources/library --no-vignettes --timings CNORfuzzy_1.44.0.tar.gz StartedAt: 2024-03-03 19:43:59 -0500 (Sun, 03 Mar 2024) EndedAt: 2024-03-03 19:45:25 -0500 (Sun, 03 Mar 2024) EllapsedTime: 86.2 seconds RetCode: 0 Status: OK CheckDir: CNORfuzzy.Rcheck Warnings: 0