Package: CNORfuzzy Version: 1.44.0 Command: rm -rf CNORfuzzy.buildbin-libdir && mkdir CNORfuzzy.buildbin-libdir && /Users/biocbuild/BBS/utils/build-universal.sh CNORfuzzy_1.44.0.tar.gz /Library/Frameworks/R.framework/Resources/bin/R CNORfuzzy.buildbin-libdir StartedAt: 2024-03-04 00:34:49 -0500 (Mon, 04 Mar 2024) EndedAt: 2024-03-04 00:35:06 -0500 (Mon, 04 Mar 2024) EllapsedTime: 16.9 seconds RetCode: 0 Status: OK PackageFile: CNORfuzzy_1.44.0.tgz PackageFileSize: 691.6 KiB