Package: CNEr Version: 1.38.0 Command: rm -rf CNEr.buildbin-libdir && mkdir CNEr.buildbin-libdir && /Users/biocbuild/BBS/utils/build-universal.sh CNEr_1.38.0.tar.gz /Library/Frameworks/R.framework/Resources/bin/R CNEr.buildbin-libdir StartedAt: 2024-03-04 00:34:48 -0500 (Mon, 04 Mar 2024) EndedAt: 2024-03-04 00:36:06 -0500 (Mon, 04 Mar 2024) EllapsedTime: 78.0 seconds RetCode: 0 Status: OK PackageFile: CNEr_1.38.0.tgz PackageFileSize: 10.39 MiB