Package: CNEr Version: 1.38.0 Command: /home/biocbuild/R/R-4.3.1/bin/R CMD check --install=check:CNEr.install-out.txt --library=/home/biocbuild/R/R-4.3.1/site-library --no-vignettes --timings CNEr_1.38.0.tar.gz StartedAt: 2023-11-02 09:24:24 -0000 (Thu, 02 Nov 2023) EndedAt: 2023-11-02 09:32:08 -0000 (Thu, 02 Nov 2023) EllapsedTime: 463.6 seconds RetCode: 1 Status: ERROR CheckDir: CNEr.Rcheck Warnings: NA