Package: CNAnorm Version: 1.48.0 Command: /Library/Frameworks/R.framework/Resources/bin/R CMD INSTALL CNAnorm StartedAt: 2024-04-15 15:10:47 -0400 (Mon, 15 Apr 2024) EndedAt: 2024-04-15 15:11:14 -0400 (Mon, 15 Apr 2024) EllapsedTime: 26.9 seconds RetCode: 0 Status: OK