Package: CNAnorm Version: 1.48.0 Command: rm -rf CNAnorm.buildbin-libdir && mkdir CNAnorm.buildbin-libdir && /Users/biocbuild/BBS/utils/build-universal.sh CNAnorm_1.48.0.tar.gz /Library/Frameworks/R.framework/Resources/bin/R CNAnorm.buildbin-libdir StartedAt: 2024-04-16 11:18:44 -0400 (Tue, 16 Apr 2024) EndedAt: 2024-04-16 11:19:04 -0400 (Tue, 16 Apr 2024) EllapsedTime: 20.5 seconds RetCode: 0 Status: OK PackageFile: CNAnorm_1.48.0.tgz PackageFileSize: 1.845 MiB