Package: CNAnorm Version: 1.48.0 Command: rm -rf CNAnorm.buildbin-libdir && mkdir CNAnorm.buildbin-libdir && /Users/biocbuild/BBS/utils/build-universal.sh CNAnorm_1.48.0.tar.gz /Library/Frameworks/R.framework/Resources/bin/R CNAnorm.buildbin-libdir StartedAt: 2024-03-04 00:34:46 -0500 (Mon, 04 Mar 2024) EndedAt: 2024-03-04 00:34:59 -0500 (Mon, 04 Mar 2024) EllapsedTime: 12.6 seconds RetCode: 0 Status: OK PackageFile: CNAnorm_1.48.0.tgz PackageFileSize: 1.84 MiB