Package: CMA Version: 1.60.0 Command: /home/biocbuild/bbs-3.18-bioc/R/bin/R CMD check --install=check:CMA.install-out.txt --library=/home/biocbuild/bbs-3.18-bioc/R/site-library --timings CMA_1.60.0.tar.gz StartedAt: 2024-04-15 21:21:29 -0400 (Mon, 15 Apr 2024) EndedAt: 2024-04-15 21:22:39 -0400 (Mon, 15 Apr 2024) EllapsedTime: 69.9 seconds RetCode: 0 Status: OK CheckDir: CMA.Rcheck Warnings: 0