Package: CMA Version: 1.60.0 Command: /Library/Frameworks/R.framework/Resources/bin/R CMD INSTALL CMA StartedAt: 2024-04-15 15:04:46 -0400 (Mon, 15 Apr 2024) EndedAt: 2024-04-15 15:05:37 -0400 (Mon, 15 Apr 2024) EllapsedTime: 50.3 seconds RetCode: 0 Status: OK