Package: CMA Version: 1.60.0 Command: /Library/Frameworks/R.framework/Resources/bin/R CMD INSTALL CMA StartedAt: 2024-03-03 15:04:25 -0500 (Sun, 03 Mar 2024) EndedAt: 2024-03-03 15:05:15 -0500 (Sun, 03 Mar 2024) EllapsedTime: 50.2 seconds RetCode: 0 Status: OK