Package: CIMICE Version: 1.10.0 Command: rm -rf CIMICE.buildbin-libdir && mkdir CIMICE.buildbin-libdir && F:\biocbuild\bbs-3.18-bioc\R\bin\R.exe CMD INSTALL --build --library=CIMICE.buildbin-libdir CIMICE_1.10.0.tar.gz StartedAt: 2024-04-16 06:48:35 -0400 (Tue, 16 Apr 2024) EndedAt: 2024-04-16 06:48:53 -0400 (Tue, 16 Apr 2024) EllapsedTime: 18.1 seconds RetCode: 0 Status: OK PackageFile: CIMICE_1.10.0.zip PackageFileSize: 1.012 MiB