Package: CIMICE Version: 1.10.0 Command: /Library/Frameworks/R.framework/Resources/bin/R CMD build --keep-empty-dirs --no-resave-data CIMICE StartedAt: 2024-04-15 17:41:50 -0400 (Mon, 15 Apr 2024) EndedAt: 2024-04-15 17:42:43 -0400 (Mon, 15 Apr 2024) EllapsedTime: 53.5 seconds RetCode: 0 Status: OK PackageFile: CIMICE_1.10.0.tar.gz PackageFileSize: 1.555 MiB