Package: CIMICE Version: 1.10.0 Command: /Library/Frameworks/R.framework/Resources/bin/R CMD check --install=check:CIMICE.install-out.txt --library=/Library/Frameworks/R.framework/Resources/library --no-vignettes --timings CIMICE_1.10.0.tar.gz StartedAt: 2024-03-03 19:37:46 -0500 (Sun, 03 Mar 2024) EndedAt: 2024-03-03 19:39:16 -0500 (Sun, 03 Mar 2024) EllapsedTime: 89.6 seconds RetCode: 0 Status: OK CheckDir: CIMICE.Rcheck Warnings: 0