Package: CHETAH Version: 1.18.0 Command: rm -rf CHETAH.buildbin-libdir && mkdir CHETAH.buildbin-libdir && /Users/biocbuild/BBS/utils/build-universal.sh CHETAH_1.18.0.tar.gz /Library/Frameworks/R.framework/Resources/bin/R CHETAH.buildbin-libdir StartedAt: 2024-04-16 11:14:03 -0400 (Tue, 16 Apr 2024) EndedAt: 2024-04-16 11:15:49 -0400 (Tue, 16 Apr 2024) EllapsedTime: 105.9 seconds RetCode: 0 Status: OK PackageFile: CHETAH_1.18.0.tgz PackageFileSize: 3.55 MiB