Package: CGHnormaliter Version: 1.56.0 Command: /home/biocbuild/R/R-4.3.1/bin/R CMD INSTALL CGHnormaliter StartedAt: 2023-11-01 20:10:34 -0000 (Wed, 01 Nov 2023) EndedAt: 2023-11-01 20:10:40 -0000 (Wed, 01 Nov 2023) EllapsedTime: 6.5 seconds RetCode: 0 Status: OK