Package: CGHnormaliter Version: 1.56.0 Command: /home/biocbuild/R/R-4.3.1/bin/R CMD build --keep-empty-dirs --no-resave-data CGHnormaliter StartedAt: 2023-11-01 23:15:07 -0000 (Wed, 01 Nov 2023) EndedAt: 2023-11-01 23:16:19 -0000 (Wed, 01 Nov 2023) EllapsedTime: 72.1 seconds RetCode: 0 Status: OK PackageFile: CGHnormaliter_1.56.0.tar.gz PackageFileSize: 1.237 MiB