Package: CGHcall Version: 2.64.0 Command: F:\biocbuild\bbs-3.18-bioc\R\bin\R.exe CMD check --no-multiarch --install=check:CGHcall.install-out.txt --library=F:\biocbuild\bbs-3.18-bioc\R\library --no-vignettes --timings CGHcall_2.64.0.tar.gz StartedAt: 2024-04-15 23:12:02 -0400 (Mon, 15 Apr 2024) EndedAt: 2024-04-15 23:12:48 -0400 (Mon, 15 Apr 2024) EllapsedTime: 45.5 seconds RetCode: 0 Status: WARNINGS CheckDir: CGHcall.Rcheck Warnings: 1