Package: CGHcall Version: 2.64.0 Command: chmod a+r CGHcall -R && F:\biocbuild\bbs-3.18-bioc\R\bin\R.exe CMD build --keep-empty-dirs --no-resave-data CGHcall StartedAt: 2024-04-15 17:32:17 -0400 (Mon, 15 Apr 2024) EndedAt: 2024-04-15 17:32:44 -0400 (Mon, 15 Apr 2024) EllapsedTime: 27.5 seconds RetCode: 0 Status: OK PackageFile: CGHcall_2.64.0.tar.gz PackageFileSize: 339.2 KiB