Package: CGHcall Version: 2.64.0 Command: rm -rf CGHcall.buildbin-libdir && mkdir CGHcall.buildbin-libdir && /Users/biocbuild/BBS/utils/build-universal.sh CGHcall_2.64.0.tar.gz /Library/Frameworks/R.framework/Resources/bin/R CGHcall.buildbin-libdir StartedAt: 2024-04-16 11:13:46 -0400 (Tue, 16 Apr 2024) EndedAt: 2024-04-16 11:14:03 -0400 (Tue, 16 Apr 2024) EllapsedTime: 17.3 seconds RetCode: 0 Status: OK PackageFile: CGHcall_2.64.0.tgz PackageFileSize: 533 KiB