Package: CGHcall Version: 2.64.0 Command: /home/biocbuild/R/R-4.3.1/bin/R CMD INSTALL CGHcall StartedAt: 2023-11-01 20:10:25 -0000 (Wed, 01 Nov 2023) EndedAt: 2023-11-01 20:10:31 -0000 (Wed, 01 Nov 2023) EllapsedTime: 6.5 seconds RetCode: 0 Status: OK