Package: CGHcall Version: 2.64.0 Command: /home/biocbuild/R/R-4.3.1/bin/R CMD check --install=check:CGHcall.install-out.txt --library=/home/biocbuild/R/R-4.3.1/site-library --no-vignettes --timings CGHcall_2.64.0.tar.gz StartedAt: 2023-11-02 09:09:31 -0000 (Thu, 02 Nov 2023) EndedAt: 2023-11-02 09:10:13 -0000 (Thu, 02 Nov 2023) EllapsedTime: 42.1 seconds RetCode: 0 Status: WARNINGS CheckDir: CGHcall.Rcheck Warnings: 1