Package: CGHbase Version: 1.62.0 Command: /home/biocbuild/R/R-4.3.1/bin/R CMD INSTALL CGHbase StartedAt: 2023-11-01 20:10:07 -0000 (Wed, 01 Nov 2023) EndedAt: 2023-11-01 20:10:24 -0000 (Wed, 01 Nov 2023) EllapsedTime: 17.1 seconds RetCode: 0 Status: OK