Package: CGEN Version: 3.38.0 Command: chmod a+r CGEN -R && F:\biocbuild\bbs-3.18-bioc\R\bin\R.exe CMD build --keep-empty-dirs --no-resave-data CGEN StartedAt: 2024-04-15 17:32:12 -0400 (Mon, 15 Apr 2024) EndedAt: 2024-04-15 17:33:22 -0400 (Mon, 15 Apr 2024) EllapsedTime: 70.4 seconds RetCode: 0 Status: OK PackageFile: CGEN_3.38.0.tar.gz PackageFileSize: 820.8 KiB