Package: CGEN Version: 3.38.0 Command: /Library/Frameworks/R.framework/Resources/bin/R CMD INSTALL CGEN StartedAt: 2024-04-15 16:12:59 -0400 (Mon, 15 Apr 2024) EndedAt: 2024-04-15 16:13:54 -0400 (Mon, 15 Apr 2024) EllapsedTime: 54.3 seconds RetCode: 0 Status: OK