Package: CGEN Version: 3.38.0 Command: /Library/Frameworks/R.framework/Resources/bin/R CMD build --keep-empty-dirs --no-resave-data CGEN StartedAt: 2024-04-15 17:35:27 -0400 (Mon, 15 Apr 2024) EndedAt: 2024-04-15 17:37:08 -0400 (Mon, 15 Apr 2024) EllapsedTime: 101.5 seconds RetCode: 0 Status: OK PackageFile: CGEN_3.38.0.tar.gz PackageFileSize: 979.5 KiB