Package: CGEN Version: 3.38.0 Command: /Library/Frameworks/R.framework/Resources/bin/R CMD INSTALL CGEN StartedAt: 2024-03-03 15:33:39 -0500 (Sun, 03 Mar 2024) EndedAt: 2024-03-03 15:34:15 -0500 (Sun, 03 Mar 2024) EllapsedTime: 35.6 seconds RetCode: 0 Status: OK