Package: CGEN Version: 3.38.0 Command: rm -rf CGEN.buildbin-libdir && mkdir CGEN.buildbin-libdir && /Users/biocbuild/BBS/utils/build-universal.sh CGEN_3.38.0.tar.gz /Library/Frameworks/R.framework/Resources/bin/R CGEN.buildbin-libdir StartedAt: 2024-03-04 00:33:27 -0500 (Mon, 04 Mar 2024) EndedAt: 2024-03-04 00:34:07 -0500 (Mon, 04 Mar 2024) EllapsedTime: 39.2 seconds RetCode: 0 Status: OK PackageFile: CGEN_3.38.0.tgz PackageFileSize: 1.937 MiB