Package: CGEN Version: 3.38.0 Command: /home/biocbuild/R/R-4.3.1/bin/R CMD check --install=check:CGEN.install-out.txt --library=/home/biocbuild/R/R-4.3.1/site-library --no-vignettes --timings CGEN_3.38.0.tar.gz StartedAt: 2023-11-02 09:09:16 -0000 (Thu, 02 Nov 2023) EndedAt: 2023-11-02 09:13:27 -0000 (Thu, 02 Nov 2023) EllapsedTime: 250.4 seconds RetCode: 0 Status: OK CheckDir: CGEN.Rcheck Warnings: 0