Package: CFAssay Version: 1.36.0 Command: /home/biocbuild/bbs-3.18-bioc/R/bin/R CMD build --keep-empty-dirs --no-resave-data CFAssay StartedAt: 2024-04-15 16:24:10 -0400 (Mon, 15 Apr 2024) EndedAt: 2024-04-15 16:24:15 -0400 (Mon, 15 Apr 2024) EllapsedTime: 5.0 seconds RetCode: 0 Status: OK PackageFile: CFAssay_1.36.0.tar.gz PackageFileSize: 192 KiB