Package: CFAssay Version: 1.36.0 Maintainer: Herbert Braselmann MaintainerEmail: hbraselmann at online.de git_url: https://git.bioconductor.org/packages/CFAssay git_branch: RELEASE_3_18 git_last_commit: e3d3b29 git_last_commit_date: 2023-10-24 10:40:07 -0400 (Tue, 24 Oct 2023)